BEGIN:VCALENDAR
METHOD:PUBLISH
VERSION:2.0
PRODID:-//Thirsty Thursday - Dunwoody Tavern//Calendar//EN

BEGIN:VEVENT
SUMMARY:Dunwoody | Thirsty Thursday - Dunwoody Tavern
DESCRIPTION:Join us outside at the Dunwoody Tavern!  Live music will be provided\, and We'll gather under the covered patio by the toasty firepit!About Meeting Place: Dunwoody Tavern is an Irish pub with cozy indoor and outdoor seating\, great food and drinks\, located in The Shops of Dunwoody.  SEE LINK FOR MENU AND MORE: WWW.DUNWOODYTAVERN.COM Address: 5488 Chamblee Dunwoody Rd\, Dunwoody    About the Music:  Jud Shumway of the Sawgrass Blues Band performs live! Go to www.sawgrassblues.com to see a list of songs for special requestsQuestions: call or text Jennifer Bowler 404-667-2494COME OUT AND ENJOY THE FUN!
X-ALT-DESC:<h3><span style="font-family: Tahoma;">Join us outside at the Dunwoody Tavern! </span><span style="font-family: Tahoma;">&nbsp;</span></h3><hr><h3><span style="background-color: rgb(247, 173, 107);"><span style="color: rgb(85, 85, 85); font-size: 14px; font-family: Tahoma;"><u style="">Live music</u> will be provided, and&nbsp;</span><span style="color: rgb(85, 85, 85); font-size: 14px; font-family: Tahoma;">We'll gather under the covered patio </span><span style="color: rgb(85, 85, 85); font-size: 14px; font-family: Tahoma;">by the toasty firepit!</span></span><br></h3><h6><span style="font-family: Tahoma;"><b>About Meeting Place:</b> Dunwoody Tavern is an Irish pub with cozy indoor and outdoor seating, great food and drinks, located in The Shops of Dunwoody.&nbsp;&nbsp;</span><span style="font-family: Tahoma;">SEE LINK FOR MENU AND MORE: WWW.DUNWOODYTAVERN.COM</span></h6><h6><span style="font-family: Tahoma;"><b> Address:</b> 5488 Chamblee Dunwoody Rd, Dunwoody&nbsp;</span></h6><h6><b style="font-family: Tahoma;">   About the Music:</b><font face="Tahoma">  Jud Shumway of the </font><span style="font-family: Tahoma;">Sawgrass Blues Band</span><font face="Tahoma"> performs live! Go to www.sawgrassblues.com to see a list of songs for special requests</font></h6><h6 style="line-height: 1;"><span style="font-family: Tahoma;">Questions: call or text Jennifer Bowler 404-667-2494</span></h6><h4><span style="font-family: Tahoma; background-color: rgb(247, 173, 107);">COME OUT AND ENJOY THE FUN!</span></h4>
UID:Event5265
DTSTART:20210114T223000Z
DTEND:20210115T000000Z
DTSTAMP:20210105T205816Z
LAST-MODIFIED:20210108T194959Z
END:VEVENT

END:VCALENDAR